BEGIN:VCALENDAR
VERSION:2.0
PRODID:-//Châtillon-en-Vendelais - ECPv6.15.20//NONSGML v1.0//EN
CALSCALE:GREGORIAN
METHOD:PUBLISH
X-WR-CALNAME:Châtillon-en-Vendelais
X-ORIGINAL-URL:https://www.chatillon-en-vendelais.fr
X-WR-CALDESC:Évènements pour Châtillon-en-Vendelais
REFRESH-INTERVAL;VALUE=DURATION:PT1H
X-Robots-Tag:noindex
X-PUBLISHED-TTL:PT1H
BEGIN:VTIMEZONE
TZID:Europe/Paris
BEGIN:DAYLIGHT
TZOFFSETFROM:+0100
TZOFFSETTO:+0200
TZNAME:CEST
DTSTART:20250330T010000
END:DAYLIGHT
BEGIN:STANDARD
TZOFFSETFROM:+0200
TZOFFSETTO:+0100
TZNAME:CET
DTSTART:20251026T010000
END:STANDARD
BEGIN:DAYLIGHT
TZOFFSETFROM:+0100
TZOFFSETTO:+0200
TZNAME:CEST
DTSTART:20260329T010000
END:DAYLIGHT
BEGIN:STANDARD
TZOFFSETFROM:+0200
TZOFFSETTO:+0100
TZNAME:CET
DTSTART:20261025T010000
END:STANDARD
BEGIN:DAYLIGHT
TZOFFSETFROM:+0100
TZOFFSETTO:+0200
TZNAME:CEST
DTSTART:20270328T010000
END:DAYLIGHT
BEGIN:STANDARD
TZOFFSETFROM:+0200
TZOFFSETTO:+0100
TZNAME:CET
DTSTART:20271031T010000
END:STANDARD
END:VTIMEZONE
BEGIN:VEVENT
DTSTART;TZID=Europe/Paris:20260429T133000
DTEND;TZID=Europe/Paris:20260429T150000
DTSTAMP:20260424T175745
CREATED:20260331T133159Z
LAST-MODIFIED:20260331T133159Z
UID:16952-1777469400-1777474800@www.chatillon-en-vendelais.fr
SUMMARY:Brico du mercredi "Carpe Koï" à la médiathèque de 13h30 à 15h
DESCRIPTION:
URL:https://www.chatillon-en-vendelais.fr/agenda/brico-du-mercredi-carpe-koi-a-la-mediatheque-de-13h30-a-15h/
END:VEVENT
BEGIN:VEVENT
DTSTART;VALUE=DATE:20260812
DTEND;VALUE=DATE:20260813
DTSTAMP:20260424T175745
CREATED:20260305T143758Z
LAST-MODIFIED:20260305T143902Z
UID:16670-1786492800-1786579199@www.chatillon-en-vendelais.fr
SUMMARY:Galette-saucisse du Club de l'amitié
DESCRIPTION:
URL:https://www.chatillon-en-vendelais.fr/agenda/galette-saucisse-du-club-de-lamitie/
LOCATION:Complexe du lac\, Lieu dit L'épine\, Châtillon-en-Vendelais\, France Métropolitaine
END:VEVENT
BEGIN:VEVENT
DTSTART;TZID=Europe/Paris:20260924T080000
DTEND;TZID=Europe/Paris:20260924T170000
DTSTAMP:20260424T175745
CREATED:20260403T082136Z
LAST-MODIFIED:20260403T082136Z
UID:17020-1790236800-1790269200@www.chatillon-en-vendelais.fr
SUMMARY:Bal du Club de l'amitié
DESCRIPTION:
URL:https://www.chatillon-en-vendelais.fr/agenda/bal-du-club-de-lamitie-2/
LOCATION:Salle du Complexe du Lac\, Route de L'Epine\, Chatillon en vendelais\, 35210
END:VEVENT
BEGIN:VEVENT
DTSTART;TZID=Europe/Paris:20261002T080000
DTEND;TZID=Europe/Paris:20261002T170000
DTSTAMP:20260424T175745
CREATED:20260403T082300Z
LAST-MODIFIED:20260403T082300Z
UID:17022-1790928000-1790960400@www.chatillon-en-vendelais.fr
SUMMARY:Concours de belote du club de l'amitié
DESCRIPTION:
URL:https://www.chatillon-en-vendelais.fr/agenda/concours-de-belote-du-club-de-lamitie-2/
LOCATION:Salle du Complexe du Lac\, Route de L'Epine\, Chatillon en vendelais\, 35210
END:VEVENT
BEGIN:VEVENT
DTSTART;VALUE=DATE:20261017
DTEND;VALUE=DATE:20261018
DTSTAMP:20260424T175745
CREATED:20260305T144105Z
LAST-MODIFIED:20260305T144105Z
UID:16674-1792195200-1792281599@www.chatillon-en-vendelais.fr
SUMMARY:Repas du Club de l'amitié
DESCRIPTION:
URL:https://www.chatillon-en-vendelais.fr/agenda/repas-du-club-de-lamitie/
LOCATION:Complexe du lac\, Lieu dit L'épine\, Châtillon-en-Vendelais\, France Métropolitaine
END:VEVENT
BEGIN:VEVENT
DTSTART;VALUE=DATE:20261206
DTEND;VALUE=DATE:20261207
DTSTAMP:20260424T175745
CREATED:20260305T144242Z
LAST-MODIFIED:20260305T144242Z
UID:16676-1796515200-1796601599@www.chatillon-en-vendelais.fr
SUMMARY:Bal du Club de l'amitié
DESCRIPTION:
URL:https://www.chatillon-en-vendelais.fr/agenda/bal-du-club-de-lamitie/
LOCATION:Complexe du lac\, Lieu dit L'épine\, Châtillon-en-Vendelais\, France Métropolitaine
END:VEVENT
BEGIN:VEVENT
DTSTART;VALUE=DATE:20261212
DTEND;VALUE=DATE:20261213
DTSTAMP:20260424T175745
CREATED:20260305T144339Z
LAST-MODIFIED:20260305T144339Z
UID:16678-1797033600-1797119999@www.chatillon-en-vendelais.fr
SUMMARY:Bûche du Club de l'amitié
DESCRIPTION:
URL:https://www.chatillon-en-vendelais.fr/agenda/buche-du-club-de-lamitie/
LOCATION:Salle du Complexe du Lac\, Route de L'Epine\, Chatillon en vendelais\, 35210
END:VEVENT
END:VCALENDAR