BEGIN:VCALENDAR
VERSION:2.0
PRODID:-//Châtillon-en-Vendelais - ECPv6.15.20//NONSGML v1.0//EN
CALSCALE:GREGORIAN
METHOD:PUBLISH
X-WR-CALNAME:Châtillon-en-Vendelais
X-ORIGINAL-URL:https://www.chatillon-en-vendelais.fr
X-WR-CALDESC:Évènements pour Châtillon-en-Vendelais
REFRESH-INTERVAL;VALUE=DURATION:PT1H
X-Robots-Tag:noindex
X-PUBLISHED-TTL:PT1H
BEGIN:VTIMEZONE
TZID:Europe/Paris
BEGIN:DAYLIGHT
TZOFFSETFROM:+0100
TZOFFSETTO:+0200
TZNAME:CEST
DTSTART:20250330T010000
END:DAYLIGHT
BEGIN:STANDARD
TZOFFSETFROM:+0200
TZOFFSETTO:+0100
TZNAME:CET
DTSTART:20251026T010000
END:STANDARD
BEGIN:DAYLIGHT
TZOFFSETFROM:+0100
TZOFFSETTO:+0200
TZNAME:CEST
DTSTART:20260329T010000
END:DAYLIGHT
BEGIN:STANDARD
TZOFFSETFROM:+0200
TZOFFSETTO:+0100
TZNAME:CET
DTSTART:20261025T010000
END:STANDARD
BEGIN:DAYLIGHT
TZOFFSETFROM:+0100
TZOFFSETTO:+0200
TZNAME:CEST
DTSTART:20270328T010000
END:DAYLIGHT
BEGIN:STANDARD
TZOFFSETFROM:+0200
TZOFFSETTO:+0100
TZNAME:CET
DTSTART:20271031T010000
END:STANDARD
END:VTIMEZONE
BEGIN:VEVENT
DTSTART;TZID=Europe/Paris:20260411T151500
DTEND;TZID=Europe/Paris:20260411T161500
DTSTAMP:20260424T191454
CREATED:20260410T092236Z
LAST-MODIFIED:20260410T092236Z
UID:17053-1775920500-1775924100@www.chatillon-en-vendelais.fr
SUMMARY:Défilé déguisé des enfants des deux écoles dans les rues de la commune
DESCRIPTION:Départ à 15h15 depuis le restaurant scolaire
URL:https://www.chatillon-en-vendelais.fr/agenda/defile-deguise-des-enfants-des-deux-ecoles-dans-les-rues-de-la-commune/
END:VEVENT
BEGIN:VEVENT
DTSTART;TZID=Europe/Paris:20260411T100000
DTEND;TZID=Europe/Paris:20260411T103000
DTSTAMP:20260424T191454
CREATED:20260331T132719Z
LAST-MODIFIED:20260331T133037Z
UID:16950-1775901600-1775903400@www.chatillon-en-vendelais.fr
SUMMARY:Bébés lecteurs "Poisson d'avril" à la médiathèque 10h-10h30
DESCRIPTION:
URL:https://www.chatillon-en-vendelais.fr/agenda/bebes-lecteurs-poisson-davril-a-la-mediatheque-10h-10h30/
END:VEVENT
BEGIN:VEVENT
DTSTART;VALUE=DATE:20260328
DTEND;VALUE=DATE:20260329
DTSTAMP:20260424T191454
CREATED:20260108T084333Z
LAST-MODIFIED:20260108T085617Z
UID:16092-1774656000-1774742399@www.chatillon-en-vendelais.fr
SUMMARY:Portes ouvertes de l'école publique de 10h à 12h
DESCRIPTION:
URL:https://www.chatillon-en-vendelais.fr/agenda/portes-ouvertes-de-lecole-publique-de-10h-a-12h/
LOCATION:Ecole du Rocher Inoguen\, 6 impasse de l'ancien château\, Châtillon-en-Vendelais\, 35210\, France
END:VEVENT
BEGIN:VEVENT
DTSTART;VALUE=DATE:20260328
DTEND;VALUE=DATE:20260329
DTSTAMP:20260424T191454
CREATED:20260324T110736Z
LAST-MODIFIED:20260324T110956Z
UID:16918-1774656000-1774742399@www.chatillon-en-vendelais.fr
SUMMARY:EXPO PHOTOS de Pierre Tanquerel - Vernissage samedi 28 mars à 11h30  dans le hall de la médiathèque
DESCRIPTION:Exposition du 24 mars au 25 avril 2026
URL:https://www.chatillon-en-vendelais.fr/agenda/expo-photos-de-pierre-tanquerel-vernissage-samedi-28-mars-a-11h30-dans-le-hall-de-la-mediatheque/
END:VEVENT
BEGIN:VEVENT
DTSTART;VALUE=DATE:20260325
DTEND;VALUE=DATE:20260326
DTSTAMP:20260424T191454
CREATED:20260108T091802Z
LAST-MODIFIED:20260108T091802Z
UID:16129-1774396800-1774483199@www.chatillon-en-vendelais.fr
SUMMARY:Brico 13h30 à la médiathèque
DESCRIPTION:
URL:https://www.chatillon-en-vendelais.fr/agenda/brico-13h30-a-la-mediatheque/
LOCATION:Médiathèque Erik Orsenna\, 14 place de l'église\, Châtillon-en-Vendelais\, 35210\, France
ORGANIZER;CN="M%C3%A9diath%C3%A8que Erik Orsenna":MAILTO:mediatheque@chatillon-en-vendelais.fr
END:VEVENT
BEGIN:VEVENT
DTSTART;VALUE=DATE:20260322
DTEND;VALUE=DATE:20260323
DTSTAMP:20260424T191454
CREATED:20260108T091631Z
LAST-MODIFIED:20260108T091631Z
UID:16127-1774137600-1774223999@www.chatillon-en-vendelais.fr
SUMMARY:Loto APEEP - Salle du Complexe du lac
DESCRIPTION:
URL:https://www.chatillon-en-vendelais.fr/agenda/loto-apeep-salle-du-complexe-du-lac/
LOCATION:Salle du Complexe du Lac\, Route de L'Epine\, Chatillon en vendelais\, 35210
END:VEVENT
BEGIN:VEVENT
DTSTART;VALUE=DATE:20260321
DTEND;VALUE=DATE:20260322
DTSTAMP:20260424T191454
CREATED:20260108T091542Z
LAST-MODIFIED:20260108T091542Z
UID:16125-1774051200-1774137599@www.chatillon-en-vendelais.fr
SUMMARY:Soirée APEEP -Salle du Complexe du lac
DESCRIPTION:
URL:https://www.chatillon-en-vendelais.fr/agenda/soiree-apeep-salle-du-complexe-du-lac/
LOCATION:Complexe du lac\, Lieu dit L'épine\, Châtillon-en-Vendelais\, France Métropolitaine
END:VEVENT
BEGIN:VEVENT
DTSTART;TZID=Europe/Paris:20260315T080000
DTEND;TZID=Europe/Paris:20260315T180000
DTSTAMP:20260424T191454
CREATED:20260311T125220Z
LAST-MODIFIED:20260311T125327Z
UID:16829-1773561600-1773597600@www.chatillon-en-vendelais.fr
SUMMARY:Élections municipales de 8h à 18h salle annexe de la mairie
DESCRIPTION:
URL:https://www.chatillon-en-vendelais.fr/agenda/elections-municipales-de-8h-a-18h/
END:VEVENT
BEGIN:VEVENT
DTSTART;VALUE=DATE:20260314
DTEND;VALUE=DATE:20260315
DTSTAMP:20260424T191454
CREATED:20260108T091328Z
LAST-MODIFIED:20260108T091328Z
UID:16121-1773446400-1773532799@www.chatillon-en-vendelais.fr
SUMMARY:Bébés lecteurs 10h à la médiathèque
DESCRIPTION:
URL:https://www.chatillon-en-vendelais.fr/agenda/bebes-lecteurs-10h-a-la-mediatheque-2/
LOCATION:Médiathèque Erik Orsenna\, 14 place de l'église\, Châtillon-en-Vendelais\, 35210\, France
ORGANIZER;CN="M%C3%A9diath%C3%A8que Erik Orsenna":MAILTO:mediatheque@chatillon-en-vendelais.fr
END:VEVENT
BEGIN:VEVENT
DTSTART;VALUE=DATE:20260307
DTEND;VALUE=DATE:20260308
DTSTAMP:20260424T191454
CREATED:20260108T091134Z
LAST-MODIFIED:20260108T091134Z
UID:16119-1772841600-1772927999@www.chatillon-en-vendelais.fr
SUMMARY:Tartiflette de l'APEL
DESCRIPTION:
URL:https://www.chatillon-en-vendelais.fr/agenda/tartiflette-de-lapel/
END:VEVENT
BEGIN:VEVENT
DTSTART;VALUE=DATE:20260306
DTEND;VALUE=DATE:20260307
DTSTAMP:20260424T191454
CREATED:20260305T143337Z
LAST-MODIFIED:20260305T143454Z
UID:16668-1772755200-1772841599@www.chatillon-en-vendelais.fr
SUMMARY:Concours de belote du club de l'amitié
DESCRIPTION:
URL:https://www.chatillon-en-vendelais.fr/agenda/concours-de-belote-du-club-de-lamitie/
LOCATION:Complexe du lac\, Lieu dit L'épine\, Châtillon-en-Vendelais\, France Métropolitaine
END:VEVENT
BEGIN:VEVENT
DTSTART;VALUE=DATE:20260301
DTEND;VALUE=DATE:20260302
DTSTAMP:20260424T191454
CREATED:20260108T091022Z
LAST-MODIFIED:20260108T091022Z
UID:16117-1772323200-1772409599@www.chatillon-en-vendelais.fr
SUMMARY:Bal du Club de l'amitié - Salle du Complexe du lac
DESCRIPTION:
URL:https://www.chatillon-en-vendelais.fr/agenda/bal-du-club-de-lamitie-salle-du-complexe-du-lac/
LOCATION:Salle du Complexe du Lac\, Route de L'Epine\, Chatillon en vendelais\, 35210
END:VEVENT
BEGIN:VEVENT
DTSTART;TZID=Europe/Paris:20260214T113000
DTEND;TZID=Europe/Paris:20260214T123000
DTSTAMP:20260424T191454
CREATED:20260213T100213Z
LAST-MODIFIED:20260213T100213Z
UID:16579-1771068600-1771072200@www.chatillon-en-vendelais.fr
SUMMARY:Vernissage Expo Costumes de Venise de Françoise Chérubin à 11h30 à la médiathèque
DESCRIPTION:Ouvert à tous
URL:https://www.chatillon-en-vendelais.fr/agenda/vernissage-expo-costumes-de-venise-de-francoise-cherubin-a-11h30-a-la-mediatheque/
LOCATION:Médiathèque Erik Orsenna\, 14 place de l'église\, Châtillon-en-Vendelais\, 35210\, France
ORGANIZER;CN="M%C3%A9diath%C3%A8que Erik Orsenna":MAILTO:mediatheque@chatillon-en-vendelais.fr
END:VEVENT
BEGIN:VEVENT
DTSTART;VALUE=DATE:20260214
DTEND;VALUE=DATE:20260215
DTSTAMP:20260424T191454
CREATED:20260108T090653Z
LAST-MODIFIED:20260108T090653Z
UID:16110-1771027200-1771113599@www.chatillon-en-vendelais.fr
SUMMARY:Bébés lecteurs 10h à la médiathèque
DESCRIPTION:
URL:https://www.chatillon-en-vendelais.fr/agenda/bebes-lecteurs-10h-a-la-mediatheque/
LOCATION:Médiathèque Erik Orsenna\, 14 place de l'église\, Châtillon-en-Vendelais\, 35210\, France
ORGANIZER;CN="M%C3%A9diath%C3%A8que Erik Orsenna":MAILTO:mediatheque@chatillon-en-vendelais.fr
END:VEVENT
BEGIN:VEVENT
DTSTART;VALUE=DATE:20260211
DTEND;VALUE=DATE:20260212
DTSTAMP:20260424T191454
CREATED:20260108T090924Z
LAST-MODIFIED:20260108T090924Z
UID:16115-1770768000-1770854399@www.chatillon-en-vendelais.fr
SUMMARY:AG et Pot-au-feu du Club de l'amitié - Salle du Complexe du lac
DESCRIPTION:
URL:https://www.chatillon-en-vendelais.fr/agenda/ag-et-pot-au-feu-du-club-de-lamitie-salle-du-complexe-du-lac/
LOCATION:Salle du Complexe du Lac\, Route de L'Epine\, Chatillon en vendelais\, 35210
END:VEVENT
BEGIN:VEVENT
DTSTART;VALUE=DATE:20260203
DTEND;VALUE=DATE:20260204
DTSTAMP:20260424T191454
CREATED:20260108T090442Z
LAST-MODIFIED:20260108T090442Z
UID:16108-1770076800-1770163199@www.chatillon-en-vendelais.fr
SUMMARY:Expo "Carnaval" du 3 février au 14 mars à la médiathèque
DESCRIPTION:
URL:https://www.chatillon-en-vendelais.fr/agenda/expo-carnaval-du-3-fevrier-au-14-mars-a-la-mediatheque/
LOCATION:Médiathèque Erik Orsenna\, 14 place de l'église\, Châtillon-en-Vendelais\, 35210\, France
ORGANIZER;CN="M%C3%A9diath%C3%A8que Erik Orsenna":MAILTO:mediatheque@chatillon-en-vendelais.fr
END:VEVENT
BEGIN:VEVENT
DTSTART;VALUE=DATE:20260131
DTEND;VALUE=DATE:20260201
DTSTAMP:20260424T191454
CREATED:20260108T085210Z
LAST-MODIFIED:20260108T085317Z
UID:16098-1769817600-1769903999@www.chatillon-en-vendelais.fr
SUMMARY:Assemblée générale de l'UNC - Salle du Complexe du lac
DESCRIPTION:
URL:https://www.chatillon-en-vendelais.fr/agenda/assemblee-generale-de-lunc-salle-du-complexe-du-lac/
LOCATION:Salle du Complexe du Lac\, Route de L'Epine\, Chatillon en vendelais\, 35210
END:VEVENT
BEGIN:VEVENT
DTSTART;VALUE=DATE:20260131
DTEND;VALUE=DATE:20260201
DTSTAMP:20260424T191454
CREATED:20260108T090022Z
LAST-MODIFIED:20260108T090022Z
UID:16104-1769817600-1769903999@www.chatillon-en-vendelais.fr
SUMMARY:Spectacle du Conservatoire pour les Bébés lecteurs - 10h à la médiathèque
DESCRIPTION:
URL:https://www.chatillon-en-vendelais.fr/agenda/spectacle-du-conservatoire-pour-les-bebes-lecteurs-10h-a-la-mediatheque/
LOCATION:Médiathèque Erik Orsenna\, 14 place de l'église\, Châtillon-en-Vendelais\, 35210\, France
ORGANIZER;CN="M%C3%A9diath%C3%A8que Erik Orsenna":MAILTO:mediatheque@chatillon-en-vendelais.fr
END:VEVENT
BEGIN:VEVENT
DTSTART;VALUE=DATE:20260128
DTEND;VALUE=DATE:20260129
DTSTAMP:20260424T191454
CREATED:20260108T085839Z
LAST-MODIFIED:20260108T085857Z
UID:16102-1769558400-1769644799@www.chatillon-en-vendelais.fr
SUMMARY:Brico "Calendrier des anniversaires" 13h30 à la médiathèque
DESCRIPTION:
URL:https://www.chatillon-en-vendelais.fr/agenda/brico-calendrier-des-anniversaires-13h30-a-la-mediatheque/
LOCATION:Médiathèque Erik Orsenna\, 14 place de l'église\, Châtillon-en-Vendelais\, 35210\, France
ORGANIZER;CN="M%C3%A9diath%C3%A8que Erik Orsenna":MAILTO:mediatheque@chatillon-en-vendelais.fr
END:VEVENT
BEGIN:VEVENT
DTSTART;VALUE=DATE:20260124
DTEND;VALUE=DATE:20260125
DTSTAMP:20260424T191454
CREATED:20260108T090201Z
LAST-MODIFIED:20260108T090201Z
UID:16106-1769212800-1769299199@www.chatillon-en-vendelais.fr
SUMMARY:Repas des bénévoles du Comité des fêtes - Salle du Complexe du lac
DESCRIPTION:
URL:https://www.chatillon-en-vendelais.fr/agenda/repas-des-benevoles-du-comite-des-fetes-salle-du-complexe-du-lac/
LOCATION:Salle du Complexe du Lac\, Route de L'Epine\, Chatillon en vendelais\, 35210
END:VEVENT
BEGIN:VEVENT
DTSTART;VALUE=DATE:20260123
DTEND;VALUE=DATE:20260124
DTSTAMP:20260424T191454
CREATED:20260108T085531Z
LAST-MODIFIED:20260108T090056Z
UID:16100-1769126400-1769212799@www.chatillon-en-vendelais.fr
SUMMARY:Nuit de la lecture à la médiathèque à 20h
DESCRIPTION:
URL:https://www.chatillon-en-vendelais.fr/agenda/nuit-de-la-lecture-a-la-mediatheque-a-20h/
LOCATION:Médiathèque Erik Orsenna\, 14 place de l'église\, Châtillon-en-Vendelais\, 35210\, France
ORGANIZER;CN="M%C3%A9diath%C3%A8que Erik Orsenna":MAILTO:mediatheque@chatillon-en-vendelais.fr
END:VEVENT
BEGIN:VEVENT
DTSTART;VALUE=DATE:20260114
DTEND;VALUE=DATE:20260115
DTSTAMP:20260424T191454
CREATED:20260108T085038Z
LAST-MODIFIED:20260108T085338Z
UID:16096-1768348800-1768435199@www.chatillon-en-vendelais.fr
SUMMARY:Galette des rois du Club de l'amitié - Salle du Complexe du lac
DESCRIPTION:
URL:https://www.chatillon-en-vendelais.fr/agenda/galette-des-rois-du-club-de-lamitie-salle-du-complexe-du-lac/
LOCATION:Salle du Complexe du Lac\, Route de L'Epine\, Chatillon en vendelais\, 35210
END:VEVENT
BEGIN:VEVENT
DTSTART;VALUE=DATE:20260109
DTEND;VALUE=DATE:20260110
DTSTAMP:20260424T191454
CREATED:20260108T084824Z
LAST-MODIFIED:20260108T085657Z
UID:16094-1767916800-1768003199@www.chatillon-en-vendelais.fr
SUMMARY:Vœux du Maire à la salle Complexe du lac - 20h
DESCRIPTION:
URL:https://www.chatillon-en-vendelais.fr/agenda/voeux-du-maire-a-la-salle-complexe-du-lac-20h/
LOCATION:Salle du Complexe du Lac\, Route de L'Epine\, Chatillon en vendelais\, 35210
END:VEVENT
BEGIN:VEVENT
DTSTART;VALUE=DATE:20260108
DTEND;VALUE=DATE:20260109
DTSTAMP:20260424T191454
CREATED:20260108T084104Z
LAST-MODIFIED:20260108T085730Z
UID:16090-1767830400-1767916799@www.chatillon-en-vendelais.fr
SUMMARY:Réunion du Conseil municipal à 20h
DESCRIPTION:
URL:https://www.chatillon-en-vendelais.fr/agenda/reunion-du-conseil-municipal-a-20h/
LOCATION:Mairie\, 3 place de l'église\, Châtillon-en-Vendelais\, 35210
ORGANIZER;CN="Mairie":MAILTO:accueil@chatillon-en-vendelais.fr
END:VEVENT
END:VCALENDAR